{
 "currentVersion": 11.3,
 "cimVersion": "3.3.0",
 "serviceDescription": "",
 "mapName": "Bakgrundskarta_Farg",
 "description": "",
 "copyrightText": "",
 "supportsDynamicLayers": false,
 "layers": [
  {
   "id": 33,
   "name": "Alingsås",
   "parentLayerId": -1,
   "defaultVisibility": true,
   "subLayerIds": [
    10,
    7,
    11,
    0,
    1,
    8,
    9,
    32,
    12,
    13,
    14
   ],
   "minScale": 0,
   "maxScale": 0,
   "type": "Group Layer",
   "supportsDynamicLegends": false
  },
  {
   "id": 10,
   "name": "Kommunyta",
   "parentLayerId": 33,
   "defaultVisibility": true,
   "subLayerIds": null,
   "minScale": 0,
   "maxScale": 0,
   "type": "Feature Layer",
   "geometryType": "esriGeometryPolygon",
   "supportsDynamicLegends": true
  },
  {
   "id": 7,
   "name": "Byggnader",
   "parentLayerId": 33,
   "defaultVisibility": true,
   "subLayerIds": null,
   "minScale": 10000,
   "maxScale": 0,
   "type": "Feature Layer",
   "geometryType": "esriGeometryPolygon",
   "supportsDynamicLegends": true
  },
  {
   "id": 11,
   "name": "Järnväg",
   "parentLayerId": 33,
   "defaultVisibility": true,
   "subLayerIds": null,
   "minScale": 0,
   "maxScale": 0,
   "type": "Feature Layer",
   "geometryType": "esriGeometryPolyline",
   "supportsDynamicLegends": true
  },
  {
   "id": 0,
   "name": "Vägtrafiknät",
   "parentLayerId": 33,
   "defaultVisibility": true,
   "subLayerIds": null,
   "minScale": 50000,
   "maxScale": 0,
   "type": "Feature Layer",
   "geometryType": "esriGeometryPolyline",
   "supportsDynamicLegends": true
  },
  {
   "id": 1,
   "name": "Cykelbana",
   "parentLayerId": 33,
   "defaultVisibility": true,
   "subLayerIds": null,
   "minScale": 12000,
   "maxScale": 0,
   "type": "Feature Layer",
   "geometryType": "esriGeometryPolyline",
   "supportsDynamicLegends": true
  },
  {
   "id": 8,
   "name": "Sjönamn",
   "parentLayerId": 33,
   "defaultVisibility": true,
   "subLayerIds": null,
   "minScale": 50000,
   "maxScale": 0,
   "type": "Feature Layer",
   "geometryType": "esriGeometryPoint",
   "supportsDynamicLegends": true
  },
  {
   "id": 9,
   "name": "Gatunamn",
   "parentLayerId": 33,
   "defaultVisibility": true,
   "subLayerIds": null,
   "minScale": 12000,
   "maxScale": 0,
   "type": "Feature Layer",
   "geometryType": "esriGeometryPolyline",
   "supportsDynamicLegends": true
  },
  {
   "id": 32,
   "name": "Tätorter",
   "parentLayerId": 33,
   "defaultVisibility": true,
   "subLayerIds": null,
   "minScale": 0,
   "maxScale": 12000,
   "type": "Feature Layer",
   "geometryType": "esriGeometryPolygon",
   "supportsDynamicLegends": true
  },
  {
   "id": 12,
   "name": "Tätorter",
   "parentLayerId": 33,
   "defaultVisibility": true,
   "subLayerIds": null,
   "minScale": 0,
   "maxScale": 60000,
   "type": "Feature Layer",
   "geometryType": "esriGeometryPolygon",
   "supportsDynamicLegends": true
  },
  {
   "id": 13,
   "name": "Bäck",
   "parentLayerId": 33,
   "defaultVisibility": true,
   "subLayerIds": null,
   "minScale": 24000,
   "maxScale": 0,
   "type": "Feature Layer",
   "geometryType": "esriGeometryPolyline",
   "supportsDynamicLegends": true
  },
  {
   "id": 14,
   "name": "Markskikt",
   "parentLayerId": 33,
   "defaultVisibility": true,
   "subLayerIds": null,
   "minScale": 0,
   "maxScale": 0,
   "type": "Feature Layer",
   "geometryType": "esriGeometryPolygon",
   "supportsDynamicLegends": true
  },
  {
   "id": 30,
   "name": "Järnväg Lerum",
   "parentLayerId": -1,
   "defaultVisibility": true,
   "subLayerIds": null,
   "minScale": 0,
   "maxScale": 0,
   "type": "Feature Layer",
   "geometryType": "esriGeometryPolyline",
   "supportsDynamicLegends": true
  },
  {
   "id": 31,
   "name": "Järnväg Vårgårda",
   "parentLayerId": -1,
   "defaultVisibility": true,
   "subLayerIds": null,
   "minScale": 0,
   "maxScale": 0,
   "type": "Feature Layer",
   "geometryType": "esriGeometryPolyline",
   "supportsDynamicLegends": true
  },
  {
   "id": 26,
   "name": "Kommunyta_Essunga",
   "parentLayerId": -1,
   "defaultVisibility": true,
   "subLayerIds": null,
   "minScale": 0,
   "maxScale": 0,
   "type": "Feature Layer",
   "geometryType": "esriGeometryPolygon",
   "supportsDynamicLegends": true
  },
  {
   "id": 23,
   "name": "Kommunyta_Vårgårda",
   "parentLayerId": -1,
   "defaultVisibility": true,
   "subLayerIds": null,
   "minScale": 0,
   "maxScale": 0,
   "type": "Feature Layer",
   "geometryType": "esriGeometryPolygon",
   "supportsDynamicLegends": true
  },
  {
   "id": 21,
   "name": "Kommunyta_Bollebyggd",
   "parentLayerId": -1,
   "defaultVisibility": true,
   "subLayerIds": null,
   "minScale": 0,
   "maxScale": 0,
   "type": "Feature Layer",
   "geometryType": "esriGeometryPolygon",
   "supportsDynamicLegends": true
  },
  {
   "id": 19,
   "name": "Kommunyta_Lerum",
   "parentLayerId": -1,
   "defaultVisibility": true,
   "subLayerIds": null,
   "minScale": 0,
   "maxScale": 0,
   "type": "Feature Layer",
   "geometryType": "esriGeometryPolygon",
   "supportsDynamicLegends": true
  },
  {
   "id": 16,
   "name": "Kommunyta_Trollhättan",
   "parentLayerId": -1,
   "defaultVisibility": true,
   "subLayerIds": null,
   "minScale": 0,
   "maxScale": 0,
   "type": "Feature Layer",
   "geometryType": "esriGeometryPolygon",
   "supportsDynamicLegends": true
  },
  {
   "id": 18,
   "name": "Kommunyta_Ale",
   "parentLayerId": -1,
   "defaultVisibility": true,
   "subLayerIds": null,
   "minScale": 0,
   "maxScale": 0,
   "type": "Feature Layer",
   "geometryType": "esriGeometryPolygon",
   "supportsDynamicLegends": true
  },
  {
   "id": 25,
   "name": "mark_Vårgårda",
   "parentLayerId": -1,
   "defaultVisibility": true,
   "subLayerIds": null,
   "minScale": 0,
   "maxScale": 0,
   "type": "Feature Layer",
   "geometryType": "esriGeometryPolygon",
   "supportsDynamicLegends": true
  },
  {
   "id": 28,
   "name": "mark_Essunga",
   "parentLayerId": -1,
   "defaultVisibility": true,
   "subLayerIds": null,
   "minScale": 0,
   "maxScale": 0,
   "type": "Feature Layer",
   "geometryType": "esriGeometryPolygon",
   "supportsDynamicLegends": true
  },
  {
   "id": 2,
   "name": "mark_Ale",
   "parentLayerId": -1,
   "defaultVisibility": true,
   "subLayerIds": null,
   "minScale": 0,
   "maxScale": 0,
   "type": "Feature Layer",
   "geometryType": "esriGeometryPolygon",
   "supportsDynamicLegends": true
  },
  {
   "id": 15,
   "name": "mark_Trollhättan",
   "parentLayerId": -1,
   "defaultVisibility": true,
   "subLayerIds": null,
   "minScale": 0,
   "maxScale": 0,
   "type": "Feature Layer",
   "geometryType": "esriGeometryPolygon",
   "supportsDynamicLegends": true
  },
  {
   "id": 20,
   "name": "mark_Lerum",
   "parentLayerId": -1,
   "defaultVisibility": true,
   "subLayerIds": null,
   "minScale": 0,
   "maxScale": 0,
   "type": "Feature Layer",
   "geometryType": "esriGeometryPolygon",
   "supportsDynamicLegends": true
  },
  {
   "id": 22,
   "name": "mark_Bollebyggd",
   "parentLayerId": -1,
   "defaultVisibility": true,
   "subLayerIds": null,
   "minScale": 0,
   "maxScale": 0,
   "type": "Feature Layer",
   "geometryType": "esriGeometryPolygon",
   "supportsDynamicLegends": true
  }
 ],
 "tables": [],
 "spatialReference": {
  "wkid": 3007,
  "latestWkid": 3007,
  "xyTolerance": 0.001,
  "zTolerance": 0.001,
  "mTolerance": 0.001,
  "falseX": -5473200,
  "falseY": -10002100,
  "xyUnits": 10000,
  "falseZ": -100000,
  "zUnits": 10000,
  "falseM": -100000,
  "mUnits": 10000
 },
 "singleFusedMapCache": true,
 "tileInfo": {
  "rows": 512,
  "cols": 512,
  "dpi": 96,
  "format": "PNG",
  "compressionQuality": 0,
  "origin": {
   "x": -5473200,
   "y": 10002100
  },
  "spatialReference": {
   "wkid": 3007,
   "latestWkid": 3007,
   "xyTolerance": 0.001,
   "zTolerance": 0.001,
   "mTolerance": 0.001,
   "falseX": -5473200,
   "falseY": -10002100,
   "xyUnits": 10000,
   "falseZ": -100000,
   "zUnits": 10000,
   "falseM": -100000,
   "mUnits": 10000
  },
  "lods": [
   {
    "level": 0,
    "resolution": 264.5838625010584,
    "scale": 1000000
   },
   {
    "level": 1,
    "resolution": 132.2919312505292,
    "scale": 500000
   },
   {
    "level": 2,
    "resolution": 66.1459656252646,
    "scale": 250000
   },
   {
    "level": 3,
    "resolution": 33.0729828126323,
    "scale": 125000
   },
   {
    "level": 4,
    "resolution": 16.53649140631615,
    "scale": 62500
   },
   {
    "level": 5,
    "resolution": 8.268245703158074,
    "scale": 31250
   },
   {
    "level": 6,
    "resolution": 4.134122851579037,
    "scale": 15625
   },
   {
    "level": 7,
    "resolution": 2.0670614257895186,
    "scale": 7812.5
   },
   {
    "level": 8,
    "resolution": 1.0335307128947593,
    "scale": 3906.25
   },
   {
    "level": 9,
    "resolution": 0.5167653564473796,
    "scale": 1953.125
   },
   {
    "level": 10,
    "resolution": 0.2583826782236898,
    "scale": 976.5625
   }
  ]
 },
 "storageInfo": {
  "storageFormat": "esriMapCacheStorageModeCompactV2",
  "packetSize": 128
 },
 "initialExtent": {
  "xmin": 176665.6536625026,
  "ymin": 6416726.898143818,
  "xmax": 186440.6120129425,
  "ymax": 6422368.368596758,
  "spatialReference": {
   "wkid": 3007,
   "latestWkid": 3007,
   "xyTolerance": 0.001,
   "zTolerance": 0.001,
   "mTolerance": 0.001,
   "falseX": -5473200,
   "falseY": -10002100,
   "xyUnits": 10000,
   "falseZ": -100000,
   "zUnits": 10000,
   "falseM": -100000,
   "mUnits": 10000
  }
 },
 "fullExtent": {
  "xmin": 141294.41478832698,
  "ymin": 6397635.939285331,
  "xmax": 218374.22128266198,
  "ymax": 6466885.045195709,
  "spatialReference": {
   "wkid": 3007,
   "latestWkid": 3007,
   "xyTolerance": 0.001,
   "zTolerance": 0.001,
   "mTolerance": 0.001,
   "falseX": -5473200,
   "falseY": -10002100,
   "xyUnits": 10000,
   "falseZ": -100000,
   "zUnits": 10000,
   "falseM": -100000,
   "mUnits": 10000
  }
 },
 "datesInUnknownTimezone": false,
 "minScale": 1000000,
 "maxScale": 976.5625,
 "minLOD": 0,
 "maxLOD": 10,
 "units": "esriMeters",
 "supportedImageFormatTypes": "PNG32,PNG24,PNG,JPG,DIB,TIFF,EMF,PS,PDF,GIF,SVG,SVGZ,BMP",
 "documentInfo": {
  "Title": "Map1",
  "Author": "",
  "Comments": "",
  "Subject": "",
  "Category": "",
  "Version": "3.3.0",
  "AntialiasingMode": "Fast",
  "TextAntialiasingMode": "Force",
  "Keywords": "Bakgrundskarta"
 },
 "supportsQueryDomains": true,
 "capabilities": "Map",
 "supportedQueryFormats": "JSON, geoJSON, PBF",
 "hasVersionedData": true,
 "exportTilesAllowed": false,
 "referenceScale": 0.0,
 "datumTransformations": [
  {
   "geoTransforms": [
    {
     "wkid": 1879,
     "latestWkid": 1879,
     "transformForward": false,
     "name": "SWEREF99_To_WGS_1984_1"
    }
   ]
  },
  {
   "geoTransforms": [
    {
     "wkid": 1879,
     "latestWkid": 1879,
     "transformForward": true,
     "name": "SWEREF99_To_WGS_1984_1"
    }
   ]
  }
 ],
 "supportsDatumTransformation": true,
 "floorAwareMapProperties": {
  "defaultFloorFilterSettings": {
   "isEnabled": false
  }
 },
 "archivingInfo": {
  "supportsHistoricMoment": false
 },
 "supportsClipping": true,
 "supportsSpatialFilter": true,
 "supportsTimeRelation": true,
 "supportsQueryDataElements": true,
 "mapUnits": {
  "uwkid": 9001
 },
 "maxRecordCount": 2000,
 "maxImageHeight": 4096,
 "maxImageWidth": 4096,
 "supportedExtensions": ""
}
